BEGIN:VCALENDAR
VERSION:2.0
PRODID:-//Terre Sainte - ECPv5.16.4//NONSGML v1.0//EN
CALSCALE:GREGORIAN
METHOD:PUBLISH
X-WR-CALNAME:Terre Sainte
X-ORIGINAL-URL:https://terresainte.ch
X-WR-CALDESC:Events for Terre Sainte
REFRESH-INTERVAL;VALUE=DURATION:PT1H
X-Robots-Tag:noindex
X-PUBLISHED-TTL:PT1H
BEGIN:VTIMEZONE
TZID:Europe/Zurich
BEGIN:DAYLIGHT
TZOFFSETFROM:+0100
TZOFFSETTO:+0200
TZNAME:CEST
DTSTART:20220327T010000
END:DAYLIGHT
BEGIN:STANDARD
TZOFFSETFROM:+0200
TZOFFSETTO:+0100
TZNAME:CET
DTSTART:20221030T010000
END:STANDARD
BEGIN:DAYLIGHT
TZOFFSETFROM:+0100
TZOFFSETTO:+0200
TZNAME:CEST
DTSTART:20230326T010000
END:DAYLIGHT
BEGIN:STANDARD
TZOFFSETFROM:+0200
TZOFFSETTO:+0100
TZNAME:CET
DTSTART:20231029T010000
END:STANDARD
BEGIN:DAYLIGHT
TZOFFSETFROM:+0100
TZOFFSETTO:+0200
TZNAME:CEST
DTSTART:20240331T010000
END:DAYLIGHT
BEGIN:STANDARD
TZOFFSETFROM:+0200
TZOFFSETTO:+0100
TZNAME:CET
DTSTART:20241027T010000
END:STANDARD
BEGIN:DAYLIGHT
TZOFFSETFROM:+0100
TZOFFSETTO:+0200
TZNAME:CEST
DTSTART:20250330T010000
END:DAYLIGHT
BEGIN:STANDARD
TZOFFSETFROM:+0200
TZOFFSETTO:+0100
TZNAME:CET
DTSTART:20251026T010000
END:STANDARD
END:VTIMEZONE
BEGIN:VEVENT
DTSTART;TZID=Europe/Zurich:20250206T193000
DTEND;TZID=Europe/Zurich:20250206T220000
DTSTAMP:20260423T113600
CREATED:20250105T165516Z
LAST-MODIFIED:20250105T170102Z
UID:7637-1738870200-1738879200@terresainte.ch
SUMMARY:Rêves d'hiver - Concert Desyatnikov/Wolf/Schubert/Liszt et Lecture musicale
DESCRIPTION:Concert de clôture de la 11e saison culturelle de l’Association des Rencontres de Coppet 2024/2025 au château de Coppet \nRÊVES D’HIVER \nConcert d’oeuvres de Desyatnikov\, Wolf\, Schubert et Liszt interprétées par\nMichael Leibundgut\, basse\nVladislav Osadchiy\, alto\nAnastasia Voltchok\, piano \nsuivi d’une lecture musicale d’extraits du livre « L’egérie rebelle de Franz Liszt » par Ann Bandle (Slatkine\, 2023) par la comédienne Marie-Eve Musy\, une séance de dédicace et d’une verrée.
URL:https://terresainte.ch/evenement/reves-dhiver-concert-desyatnikov-wolf-schubert-liszt-et-lecture-musicale/
ATTACH;FMTTYPE=image/png:https://terresainte.ch/wp-content/uploads/2025/01/ARC_Reves-dhiver_06.02.25_Programme.png
ORGANIZER;CN="ASSOCIATION%20DES%20RENCONTRES%20DE%20COPPET":MAILTO:info@rencontrescoppet.ch
END:VEVENT
BEGIN:VEVENT
DTSTART;TZID=Europe/Zurich:20241127T200000
DTEND;TZID=Europe/Zurich:20241127T213000
DTSTAMP:20260423T113600
CREATED:20241013T174429Z
LAST-MODIFIED:20241013T174429Z
UID:7098-1732737600-1732743000@terresainte.ch
SUMMARY:Les grands explorateurs botaniques au temps de Germaine de Staël : Alexander von Humboldt et Aimé Bonplan
DESCRIPTION:Conférence par Fred Stauffer\, conservateur principal de l’herbier de phanérogamie aux Conservatoire et Jardin botaniques de Genève (CJBG). \nDans cette conférence nous retraçons les cheminements complexes des spécimens collectés par les savants Humboldt et Bonpland entre 1787 et 1804 en Amérique\, lors de leur retour en Europe. Ces collections sont également utilisées pour établir la localisation actuelle (et la composition) d’importants jeux de matériel associés à ce voyage\, ainsi que pour explorer les relations existantes entre les spécimens\, les notes de terrain contenues dans le Journal Botanique et les descriptions parues dans les divers volumes de Nova Genera et Species Plantarum (1816-1825)\, qui demeure\, sans doute\, la plus significative contribution de l’expédition à la taxonomie des plantes néotropicales. \nFred Stauffer est le conservateur principal de l’herbier de phanérogamie aux Conservatoire et Jardin botaniques de Genève (CJBG). Il et aussi chargé de cours à l’Université de Genève. Depuis plus de 23 ans il s’est spécialisé dans l’étude des palmiers\, et a publié plus de 50 ouvrages scientifiques en lien à cette famille de plantes tropicales. Ses multiples connaissances englobent également les domaines de la morphologie et de l’anatomie végétale\, ainsi que l’histoire des explorations botaniques (p.e. expédition de Humboldt et Bonpland\, expédition de Martius et de Spix).
URL:https://terresainte.ch/evenement/les-grands-explorateurs-botaniques-au-temps-de-germaine-de-stael-alexander-von-humboldt-et-aime-bonplan/
LOCATION:Chateau de Coppet\, Rue de la Gare 2\, Coppet\, Vaud\, 1296\, Suisse
ATTACH;FMTTYPE=image/jpeg:https://terresainte.ch/wp-content/uploads/2024/10/HumboldtBonpland_Orenoque.jpg
ORGANIZER;CN="ASSOCIATION%20DES%20RENCONTRES%20DE%20COPPET":MAILTO:info@rencontrescoppet.ch
END:VEVENT
BEGIN:VEVENT
DTSTART;TZID=Europe/Zurich:20240915T170000
DTEND;TZID=Europe/Zurich:20240915T210000
DTSTAMP:20260423T113600
CREATED:20240707T073459Z
LAST-MODIFIED:20240707T073459Z
UID:6518-1726419600-1726434000@terresainte.ch
SUMMARY:CRIME\, PASSIONS ET BOTANIQUE – Jeu d’enquête costumé
DESCRIPTION:Jeu d’enquête costumé “Murder party” proposé par FABULA.\nScénario: Sophie Pasche\, Christophe Künzi et Sabine Aubert. \nUne Murder Party est une sorte de Cluedo grandeur nature\, entre théâtre d’improvisation et jeu d’enquête. Chaque participant incarne un personnage de l’intrigue. \nL’événement « Passions\, crime et botanique » vous plongera dans le nord-vaudois du XIXème siècle. Vous serez conviés par Edmond Boissier(1810-1885)\, éminent botaniste\, et devrez explorer les secrets cachés dans son Manoir.\nSi vous vous sentez l’âme d’un enquêteur\, alors rejoignez- nous aux Caves du Château de Coppet.
URL:https://terresainte.ch/evenement/crime-passions-et-botanique-jeu-denquete-costume/
ATTACH;FMTTYPE=image/jpeg:https://terresainte.ch/wp-content/uploads/2024/07/ARC_2024_Jeu-denquete-BOTANIQUE_Pub-rs.jpg
ORGANIZER;CN="ASSOCIATION%20DES%20RENCONTRES%20DE%20COPPET":MAILTO:info@rencontrescoppet.ch
END:VEVENT
BEGIN:VEVENT
DTSTART;TZID=Europe/Zurich:20240124T200000
DTEND;TZID=Europe/Zurich:20240124T213000
DTSTAMP:20260423T113600
CREATED:20231126T213557Z
LAST-MODIFIED:20231126T213557Z
UID:5058-1706126400-1706131800@terresainte.ch
SUMMARY:CONFERENCE DE REMPLACEMENT - Émile de Girardin (1806-1881)\, Citizen Kane au temps de Balzac
DESCRIPTION:Suite au décès du conférencier prévu pour la dernière conférence dans le cadre du cycle « Fake news à Coppet. Presse et journalisme au temps de Germaine de Staël et au début du 19è siècle »\, les Rencontres de Coppet propose une conférence littéraire avec la Prof. Adéline Wrona\, spécialiste des médias et de la littérature. \nDerrière les Illusions perdues de Balzac\, il y a des personnages en chair et en os\, que le romancier a bien connus. L’un d’entre eux est un patron de presse qui a régné sur les médias et la vie culturelle de tout le XIXe siècle : Émile de Girardin. \nInventeur de la presse moderne\, du roman feuilleton et de la publicité\, Émile de Girardin est un véritable personnage romanesque. Illustrée par des lettres inédites et un fonds iconographique d’époque\, cette conférence retracera le parcours de cet enfant de l’aristocratie né dans la clandestinité\, qui retrouve à la force de la plume le rang social qu’on lui refusait. A sa mort en 1881\, Girardin fait partie des 10 premières fortunes de France ; riche\, célèbre\, il est aussi l’une des personnalités les plus haïes de son époque. Toute ressemblance avec des faits contemporains pourrait ne pas être une coïncidence.  \nL’entrée libre sur réservation obligatoire via la billetterie de l’ARC: https://infomaniak.events/shop/TKbIY47jti/ \nAdeline Wrona est professeure au Celsa\, Sorbonne Université. Ses travaux portent sur les liens entre littérature et médias au 19e et au 21e siècle. Elle a publié notamment Zola journaliste. Articles et chroniques\, GF\, Flammarion\, 2011\, Face au portrait. De Sainte-Beuve à Facebook\, Hermann\, 2012\, avec Marie-Ève Thérenty\, L’Écrivain comme marque (Sorbonne université Presses\, 2020)\, et\, avec Sophie Corbillé et Emmanuelle Fantin\, Paris\, capitale médiatique (Presses universitaires de Vincennes)\, 2022. En 2024\, elle publiera chez Gallimard un ouvrage consacré à Émile de Girardin.
URL:https://terresainte.ch/evenement/conference-de-remplacement-emile-de-girardin-1806-1881-citizen-kane-au-temps-de-balzac/
LOCATION:Chateau de Coppet\, Rue de la Gare 2\, Coppet\, Vaud\, 1296\, Suisse
ATTACH;FMTTYPE=image/jpeg:https://terresainte.ch/wp-content/uploads/2023/11/E-de-Giradin-_caricature-Nadar-scaled.jpg
ORGANIZER;CN="ASSOCIATION%20DES%20RENCONTRES%20DE%20COPPET":MAILTO:info@rencontrescoppet.ch
END:VEVENT
BEGIN:VEVENT
DTSTART;TZID=Europe/Zurich:20230514T170000
DTEND;TZID=Europe/Zurich:20230514T190000
DTSTAMP:20260423T113600
CREATED:20230422T101210Z
LAST-MODIFIED:20230422T101210Z
UID:3449-1684083600-1684090800@terresainte.ch
SUMMARY:Concert printanier : MOZART\, MAHLER\, DVORAK
DESCRIPTION:Le Printemps musical 2023 des Rencontres de Coppet débute avec un concert de musique de chambre haut de gamme autour du quatuor no 21 de Wolfgang Amadeus Mozart surnommé « Le Printemps » et le quintette pour piano en la majeur d’Antonin Dvořák. Ces deux œuvres encadrent l’unique pièce de musique de chambre pour piano de Gustav Mahler. \nPour interpréter ces œuvres et pour faire résonner les valeurs d’ouverture\, d’intégrité et encouragement des talents artistiques qui soutiennent l’activité des Rencontres de Coppet depuis 2014\, nous avons réuni des jeunes musiciens européens d’exception avec un fort ancrage dans la région lémanique. \nOleg Kaskiv\, violon\nNé en Ukraine en 1978\, Oleg Kaskiv a rejoint la Menuhin Academy en tant qu’étudiant en 1996. Il y enseigne aujourd’hui le violon et dirige l’orchestre de l’académie. Depuis 2007\, il enseigne également au conservatoire de Genève. Au sein de la Menuhin Academy\, il a joué avec la Camerata Lysy lors de tournées mondiales. Lauréat de nombreux concours de violon internationaux\, il a joué en tant que soliste avec des grands orchestres symphoniques\, Oleg Kaskiv joue le violon Caspar Hauser de Giuseppe Guarneri del Gesù (ca. 1724)\, généreusement fourni par un sponsor privé suisse. \nBogdan Lutz\, violon\nDemi-finaliste en mai 2021 du Concours Menuhin (États-Unis)\, il a récemment remporté le premier prix du Concours international Alberto Lysy\, ainsi que le premier prix du public. Il a également obtenu le premier prix ex aequo du Concours international Carl Nielsen (Odense\, Danemark) en avril 2022. Bogdan Lutz a joué le 29 décembre dernier au New Year Music Festival de Gstaad. \nAndjela Josifoski\, alto\nNée à Belgrade (Serbie) en 2006\, elle s’est illustrée en remportant de nombreux concours nationaux et internationaux. En 2022\, elle a remporté le premier prix et le grand prix du prestigieux concours Talents for Europe en Slovaquie\, dans les catégories violon\, alto\, violoncelle et musique de chambre. \nPablo de Navéran\, violoncelle\nNé à Bilbao\, Pablo de Naverán commence l’étude du violoncelle à l’âge de\n11 ans. A 17 ans\, il rejoint la prestigieuse Menuhin Academy\, où il étudie notamment avec Lord Menuhin. Il poursuit ses études au Conservatoire National Supérieur de Musique de Paris\, où il passe son diplôme académique\, en obtenant la plus haute mention. Il a remporté de nombreux concours nationaux et internationaux\, et se produit en récital et comme soliste dans de nombreux pays européens ainsi qu’en Argentine et au Japon et dans des salles prestigieuses. En musique de chambre\, il participe également à de nombreux festivals de renom. Il joue sur un violoncelle Carlo Antonio Testore de 1723. \nAnastasia Voltchok\, pianiste\nPianiste exceptionnelle\, artiste polyvalente et professeure chevronnée\, Anastasia Voltchok est née à Moscou dans une famille de pianistes professionnels. Lauréate du concours international de piano de Cincinnati en 2003\, elle est titulaire d’un doctorat en arts musicaux de l’université du Maryland. Anastasia Voltchok se produit avec les plus grands orchestres et collabore avec des chefs d’orchestre et des solistes renommés tels que Dennis Russell Davies\, Valery Gergiev\, Roman Kofman\, Gidon Kremer ou encore Martha Argerich. \nCe concert est organisé dans le cadre de la 10ème saison des Rencontres de Coppet « (Fake) News à Coppet. Presse et journalisme au temps de Germaine de Staël ». Conférences\, événements musicaux\, visites guidées. Consultez le programme: www.rencontrescoppet.ch \nL’Association des Rencontres de Coppet rend hommage au cercle informel d’intellectuels\, artistes et dirigeants européens qui entre Révolution et Restauration contribueront à la définition de l’Europe sous tous ses aspects à la fois politiques\, philosophiques\, moraux et esthétiques. Ce groupe de réflexion (que Stendhal nommera plus tard « les États généraux de l’opinion européenne ») fut créé sous l’impulsion de Germaine de Staël au château de Coppet pour débattre des questions philosophiques et politiques de la fin du XVIIIe et du début du XIXe siècles.\n Depuis 2014\, Les Rencontres de Coppet propose des saisons culturelles thématiques valorisant ce patrimoine et la connaissance de la production intellectuelle\, artistique et musicale du XVIIIe et XIXe siècle. Sa 10ème saison « (Fake) news à Coppet. Presse et journalisme au temps de Germaine de Stäel » propose un cycle de conférences sur l’essor de la presse entre Lumières et Restauration\, et un programme musical haut de gamme. \nLes Rencontres de Coppet prennent un nouvel élan grâce à un changement d’équipe pour la programmation musicale. Cette mue a été longtemps voulue mais la mise en œuvre a été retardée par la période pandémique. \nPlein tarif (CHF) : 40.- ; Tarif réduit (Membre\, AVS) ; 30.- ; Etudiants/Apprentis/16-25 ans : 20.- \nRéservations: https://etickets.infomaniak.com/shop/TKbIY47jti/
URL:https://terresainte.ch/evenement/concert-printanier-mozart-mahler-dvorak/
LOCATION:Chateau de Coppet\, Rue de la Gare 2\, Coppet\, Vaud\, 1296\, Suisse
ATTACH;FMTTYPE=image/jpeg:https://terresainte.ch/wp-content/uploads/2023/04/LeTEMPS_14MAI.jpg
ORGANIZER;CN="ASSOCIATION%20DES%20RENCONTRES%20DE%20COPPET":MAILTO:info@rencontrescoppet.ch
END:VEVENT
BEGIN:VEVENT
DTSTART;TZID=Europe/Zurich:20230321T200000
DTEND;TZID=Europe/Zurich:20230321T213000
DTSTAMP:20260423T113600
CREATED:20230305T223806Z
LAST-MODIFIED:20230305T223806Z
UID:3188-1679428800-1679434200@terresainte.ch
SUMMARY:La plume et la rue : Naissance du journalisme moderne (XVIIIe et XIXe siècles)
DESCRIPTION:10e saison des Rencontres de Coppet « (Fake) News à Coppet. Presse et journalisme au temps de Germaine de Staël » \nCONFERENCE INAUGURALE ET PRESENTATION DE LA SAISON 2023 \nConférencière : Marie-Ève Thérenty\, professeure de littérature française à l’Université de Mont- pellier 3\, auteure de Femmes de presse\, femmes de lettres (2019)\, co-éditrice de La Civilisation du journal. Histoire culturelle et littéraire de la presse française au XIXe siècle (2011). \n«Je vais\, je viens\, je regarde\, j’écoute\, et je tiens note le soir» (L’Hermite de la Chaussée d’Antin\, 1812). Le journalisme\, dans sa conception moderne associe deux exigences: la plume et le terrain. Quelles sont les premières manifestations de ces exigences? A travers quatre figures\, le specta- teur\, le feuilletoniste\, la chroniqueuse et le reporter\, on s’intéressera à l’émergence de la figure moderne du journaliste au XVIIIe et au XIXe siècle. Ces quatre stations seront aussi l’occasion de faire l’histoire du journal des feuilles volantes au quotidien d’information\, de montrer l’impor- tance du rubriçage et d’insister sur les liens entre journalisme et littérature.
URL:https://terresainte.ch/evenement/la-plume-et-la-rue-naissance-du-journalisme-moderne-xviiie-et-xixe-siecles/
ATTACH;FMTTYPE=image/jpeg:https://terresainte.ch/wp-content/uploads/2023/03/illustration_therenty.jpeg
ORGANIZER;CN="ASSOCIATION%20DES%20RENCONTRES%20DE%20COPPET":MAILTO:info@rencontrescoppet.ch
END:VEVENT
BEGIN:VEVENT
DTSTART;TZID=Europe/Zurich:20221120T170000
DTEND;TZID=Europe/Zurich:20221120T190000
DTSTAMP:20260423T113600
CREATED:20221015T053244Z
LAST-MODIFIED:20221015T053244Z
UID:2392-1668963600-1668970800@terresainte.ch
SUMMARY:Les héroïnes de l’opéra au Château de Coppet
DESCRIPTION:9e Saison des Rencontres de Coppet\n« Les best-sellers oubliés du XVIIIe. L’industrie de l’édition des Lumières et ses\nplus grands succès. »\nConcert du dimanche 20 novembre 2022\, 17h\nOeuvres de Mozart\, Rossini\, Bizet\, Verdi\, Puccini\nAlexandrina Pendantschaka\, soprano\nMarie-Claude Chappuis\, mezzo-soprano\nChristian Chamorel\, piano
URL:https://terresainte.ch/evenement/les-heroines-de-lopera-au-chateau-de-coppet/
LOCATION:Chateau de Coppet\, Rue de la Gare 2\, Coppet\, Vaud\, 1296\, Suisse
ORGANIZER;CN="ASSOCIATION%20DES%20RENCONTRES%20DE%20COPPET":MAILTO:info@rencontrescoppet.ch
END:VEVENT
BEGIN:VEVENT
DTSTART;TZID=Europe/Zurich:20221101T200000
DTEND;TZID=Europe/Zurich:20221101T213000
DTSTAMP:20260423T113600
CREATED:20221014T112458Z
LAST-MODIFIED:20221014T112458Z
UID:2382-1667332800-1667338200@terresainte.ch
SUMMARY:Conférence littéraire : Dans la succession de La Nouvelle Héloïse de Rousseau\, Adélaïde de Clarencé de François Vernes
DESCRIPTION:Conférence littéraire organisée dans le cadre de la 9e Saison des Rencontres de Coppet « Les best-sellers oubliés du XVIIIe siècle. L’industrie de l’édition des Lumières et ses plus grands succès ». \nProf. Jacques Berchtold\, directeur de la Fondation Martin Bodmer\, partenaire des Rencontres de Coppet\, propose une conférence autour d’un best-seller du XVIIIe écrit sur les rives lémantines par l’écrivain genevois François Vernes. \nPrenant « La Nouvelle Héloïse » (1761) comme point de départ\, roman sentimental de Jean-Jacques Rousseau qui connut un succès européen phénoménal\, un autre roman épistolaire\, lui aussi lémanique mais plus tardif\, sera présenté : « Adélaïde de Clarencé\, ou les malheurs et des délices du sentiment\, Lettres écrites des rives lémantines » en 1796\, représentant à la fois un vibrant hommage à l’ouvrage de Rousseau et un riche reflet inédit de la période de la Révolution française et de l’émigration.
URL:https://terresainte.ch/evenement/conference-litteraire-dans-la-succession-de-la-nouvelle-heloise-de-rousseau-adelaide-de-clarence-de-francois-vernes/
LOCATION:Chateau de Coppet\, Rue de la Gare 2\, Coppet\, Vaud\, 1296\, Suisse
ATTACH;FMTTYPE=image/jpeg:https://terresainte.ch/wp-content/uploads/2022/10/Rousseau-Clarens.jpg
ORGANIZER;CN="ASSOCIATION%20DES%20RENCONTRES%20DE%20COPPET":MAILTO:info@rencontrescoppet.ch
END:VEVENT
END:VCALENDAR