BEGIN:VCALENDAR
VERSION:2.0
PRODID:-//Terre Sainte - ECPv5.16.4//NONSGML v1.0//EN
CALSCALE:GREGORIAN
METHOD:PUBLISH
X-WR-CALNAME:Terre Sainte
X-ORIGINAL-URL:https://terresainte.ch
X-WR-CALDESC:Events for Terre Sainte
REFRESH-INTERVAL;VALUE=DURATION:PT1H
X-Robots-Tag:noindex
X-PUBLISHED-TTL:PT1H
BEGIN:VTIMEZONE
TZID:Europe/Zurich
BEGIN:DAYLIGHT
TZOFFSETFROM:+0100
TZOFFSETTO:+0200
TZNAME:CEST
DTSTART:20220327T010000
END:DAYLIGHT
BEGIN:STANDARD
TZOFFSETFROM:+0200
TZOFFSETTO:+0100
TZNAME:CET
DTSTART:20221030T010000
END:STANDARD
BEGIN:DAYLIGHT
TZOFFSETFROM:+0100
TZOFFSETTO:+0200
TZNAME:CEST
DTSTART:20230326T010000
END:DAYLIGHT
BEGIN:STANDARD
TZOFFSETFROM:+0200
TZOFFSETTO:+0100
TZNAME:CET
DTSTART:20231029T010000
END:STANDARD
END:VTIMEZONE
BEGIN:VEVENT
DTSTART;TZID=Europe/Zurich:20230321T200000
DTEND;TZID=Europe/Zurich:20230321T213000
DTSTAMP:20260423T130040
CREATED:20230305T223806Z
LAST-MODIFIED:20230305T223806Z
UID:3188-1679428800-1679434200@terresainte.ch
SUMMARY:La plume et la rue : Naissance du journalisme moderne (XVIIIe et XIXe siècles)
DESCRIPTION:10e saison des Rencontres de Coppet « (Fake) News à Coppet. Presse et journalisme au temps de Germaine de Staël » \nCONFERENCE INAUGURALE ET PRESENTATION DE LA SAISON 2023 \nConférencière : Marie-Ève Thérenty\, professeure de littérature française à l’Université de Mont- pellier 3\, auteure de Femmes de presse\, femmes de lettres (2019)\, co-éditrice de La Civilisation du journal. Histoire culturelle et littéraire de la presse française au XIXe siècle (2011). \n«Je vais\, je viens\, je regarde\, j’écoute\, et je tiens note le soir» (L’Hermite de la Chaussée d’Antin\, 1812). Le journalisme\, dans sa conception moderne associe deux exigences: la plume et le terrain. Quelles sont les premières manifestations de ces exigences? A travers quatre figures\, le specta- teur\, le feuilletoniste\, la chroniqueuse et le reporter\, on s’intéressera à l’émergence de la figure moderne du journaliste au XVIIIe et au XIXe siècle. Ces quatre stations seront aussi l’occasion de faire l’histoire du journal des feuilles volantes au quotidien d’information\, de montrer l’impor- tance du rubriçage et d’insister sur les liens entre journalisme et littérature.
URL:https://terresainte.ch/evenement/la-plume-et-la-rue-naissance-du-journalisme-moderne-xviiie-et-xixe-siecles/
ATTACH;FMTTYPE=image/jpeg:https://terresainte.ch/wp-content/uploads/2023/03/illustration_therenty.jpeg
ORGANIZER;CN="ASSOCIATION%20DES%20RENCONTRES%20DE%20COPPET":MAILTO:info@rencontrescoppet.ch
END:VEVENT
BEGIN:VEVENT
DTSTART;TZID=Europe/Zurich:20221120T170000
DTEND;TZID=Europe/Zurich:20221120T190000
DTSTAMP:20260423T130040
CREATED:20221015T053244Z
LAST-MODIFIED:20221015T053244Z
UID:2392-1668963600-1668970800@terresainte.ch
SUMMARY:Les héroïnes de l’opéra au Château de Coppet
DESCRIPTION:9e Saison des Rencontres de Coppet\n« Les best-sellers oubliés du XVIIIe. L’industrie de l’édition des Lumières et ses\nplus grands succès. »\nConcert du dimanche 20 novembre 2022\, 17h\nOeuvres de Mozart\, Rossini\, Bizet\, Verdi\, Puccini\nAlexandrina Pendantschaka\, soprano\nMarie-Claude Chappuis\, mezzo-soprano\nChristian Chamorel\, piano
URL:https://terresainte.ch/evenement/les-heroines-de-lopera-au-chateau-de-coppet/
LOCATION:Chateau de Coppet\, Rue de la Gare 2\, Coppet\, Vaud\, 1296\, Suisse
ORGANIZER;CN="ASSOCIATION%20DES%20RENCONTRES%20DE%20COPPET":MAILTO:info@rencontrescoppet.ch
END:VEVENT
BEGIN:VEVENT
DTSTART;TZID=Europe/Zurich:20221101T200000
DTEND;TZID=Europe/Zurich:20221101T213000
DTSTAMP:20260423T130040
CREATED:20221014T112458Z
LAST-MODIFIED:20221014T112458Z
UID:2382-1667332800-1667338200@terresainte.ch
SUMMARY:Conférence littéraire : Dans la succession de La Nouvelle Héloïse de Rousseau\, Adélaïde de Clarencé de François Vernes
DESCRIPTION:Conférence littéraire organisée dans le cadre de la 9e Saison des Rencontres de Coppet « Les best-sellers oubliés du XVIIIe siècle. L’industrie de l’édition des Lumières et ses plus grands succès ». \nProf. Jacques Berchtold\, directeur de la Fondation Martin Bodmer\, partenaire des Rencontres de Coppet\, propose une conférence autour d’un best-seller du XVIIIe écrit sur les rives lémantines par l’écrivain genevois François Vernes. \nPrenant « La Nouvelle Héloïse » (1761) comme point de départ\, roman sentimental de Jean-Jacques Rousseau qui connut un succès européen phénoménal\, un autre roman épistolaire\, lui aussi lémanique mais plus tardif\, sera présenté : « Adélaïde de Clarencé\, ou les malheurs et des délices du sentiment\, Lettres écrites des rives lémantines » en 1796\, représentant à la fois un vibrant hommage à l’ouvrage de Rousseau et un riche reflet inédit de la période de la Révolution française et de l’émigration.
URL:https://terresainte.ch/evenement/conference-litteraire-dans-la-succession-de-la-nouvelle-heloise-de-rousseau-adelaide-de-clarence-de-francois-vernes/
LOCATION:Chateau de Coppet\, Rue de la Gare 2\, Coppet\, Vaud\, 1296\, Suisse
ATTACH;FMTTYPE=image/jpeg:https://terresainte.ch/wp-content/uploads/2022/10/Rousseau-Clarens.jpg
ORGANIZER;CN="ASSOCIATION%20DES%20RENCONTRES%20DE%20COPPET":MAILTO:info@rencontrescoppet.ch
END:VEVENT
END:VCALENDAR